Package: nanotubes Version: 1.26.0 Command: /home/biocbuild/bbs-3.22-bioc/R/bin/R CMD INSTALL nanotubes StartedAt: 2025-10-30 10:55:16 -0400 (Thu, 30 Oct 2025) EndedAt: 2025-10-30 10:55:18 -0400 (Thu, 30 Oct 2025) EllapsedTime: 2.0 seconds RetCode: 0 Status: OK