Package: nanotubes Version: 1.26.0 Command: /home/biocbuild/bbs-3.22-bioc/R/bin/R CMD build --keep-empty-dirs --no-resave-data nanotubes StartedAt: 2025-10-30 11:42:31 -0400 (Thu, 30 Oct 2025) EndedAt: 2025-10-30 11:42:58 -0400 (Thu, 30 Oct 2025) EllapsedTime: 26.9 seconds RetCode: 0 Status: OK PackageFile: nanotubes_1.26.0.tar.gz PackageFileSize: 117.6 MiB