Package: mvoutData Version: 1.46.0 Command: /home/biocbuild/bbs-3.22-bioc/R/bin/R CMD check --install=check:mvoutData.install-out.txt --library=/home/biocbuild/bbs-3.22-bioc/R/site-library --timings mvoutData_1.46.0.tar.gz StartedAt: 2025-11-04 12:40:06 -0500 (Tue, 04 Nov 2025) EndedAt: 2025-11-04 12:42:35 -0500 (Tue, 04 Nov 2025) EllapsedTime: 149.6 seconds RetCode: 0 Status: OK CheckDir: mvoutData.Rcheck Warnings: 0