Package: multiWGCNAdata Version: 1.6.0 Command: /home/biocbuild/bbs-3.21-bioc/R/bin/R CMD check --install=check:multiWGCNAdata.install-out.txt --library=/home/biocbuild/bbs-3.21-bioc/R/site-library --timings multiWGCNAdata_1.6.0.tar.gz StartedAt: 2025-10-07 12:40:03 -0400 (Tue, 07 Oct 2025) EndedAt: 2025-10-07 12:41:03 -0400 (Tue, 07 Oct 2025) EllapsedTime: 59.6 seconds RetCode: 0 Status: OK CheckDir: multiWGCNAdata.Rcheck Warnings: 0