Package: muleaData Version: 1.6.0 Command: /home/biocbuild/bbs-3.22-bioc/R/bin/R CMD build --keep-empty-dirs --no-resave-data muleaData StartedAt: 2025-10-30 11:41:44 -0400 (Thu, 30 Oct 2025) EndedAt: 2025-10-30 11:41:56 -0400 (Thu, 30 Oct 2025) EllapsedTime: 12.4 seconds RetCode: 0 Status: OK PackageFile: muleaData_1.6.0.tar.gz PackageFileSize: 40.97 KiB