Package: muSpaData Version: 1.2.0 Command: /home/biocbuild/bbs-3.22-bioc/R/bin/R CMD check --install=check:muSpaData.install-out.txt --library=/home/biocbuild/bbs-3.22-bioc/R/site-library --timings muSpaData_1.2.0.tar.gz StartedAt: 2025-11-04 12:39:52 -0500 (Tue, 04 Nov 2025) EndedAt: 2025-11-04 12:43:10 -0500 (Tue, 04 Nov 2025) EllapsedTime: 197.3 seconds RetCode: 0 Status: OK CheckDir: muSpaData.Rcheck Warnings: 0