Package: mtbls2 Version: 1.40.0 Command: /home/biocbuild/bbs-3.22-bioc/R/bin/R CMD INSTALL mtbls2 StartedAt: 2025-11-04 10:55:38 -0500 (Tue, 04 Nov 2025) EndedAt: 2025-11-04 10:56:15 -0500 (Tue, 04 Nov 2025) EllapsedTime: 37.8 seconds RetCode: 0 Status: OK