Package: mtbls2 Version: 1.38.1 Command: /home/biocbuild/bbs-3.21-bioc/R/bin/R CMD check --install=check:mtbls2.install-out.txt --library=/home/biocbuild/bbs-3.21-bioc/R/site-library --timings mtbls2_1.38.1.tar.gz StartedAt: 2025-10-16 12:39:21 -0400 (Thu, 16 Oct 2025) EndedAt: 2025-10-16 12:43:28 -0400 (Thu, 16 Oct 2025) EllapsedTime: 247.7 seconds RetCode: 0 Status: WARNINGS CheckDir: mtbls2.Rcheck Warnings: 1