Package: msqc1 Version: 1.38.0 Command: /home/biocbuild/bbs-3.22-bioc/R/bin/R CMD check --install=check:msqc1.install-out.txt --library=/home/biocbuild/bbs-3.22-bioc/R/site-library --timings msqc1_1.38.0.tar.gz StartedAt: 2025-11-04 12:39:05 -0500 (Tue, 04 Nov 2025) EndedAt: 2025-11-04 12:40:05 -0500 (Tue, 04 Nov 2025) EllapsedTime: 60.0 seconds RetCode: 0 Status: OK CheckDir: msqc1.Rcheck Warnings: 0