Package: msigdb Version: 1.18.0 Command: /home/biocbuild/bbs-3.22-bioc/R/bin/R CMD check --install=check:msigdb.install-out.txt --library=/home/biocbuild/bbs-3.22-bioc/R/site-library --timings msigdb_1.18.0.tar.gz StartedAt: 2025-11-04 12:38:38 -0500 (Tue, 04 Nov 2025) EndedAt: 2025-11-04 13:14:02 -0500 (Tue, 04 Nov 2025) EllapsedTime: 2123.8 seconds RetCode: 0 Status: WARNINGS CheckDir: msigdb.Rcheck Warnings: 1