Package: msdata Version: 0.50.0 Command: /home/biocbuild/bbs-3.22-bioc/R/bin/R CMD INSTALL msdata StartedAt: 2025-11-04 10:55:17 -0500 (Tue, 04 Nov 2025) EndedAt: 2025-11-04 10:55:33 -0500 (Tue, 04 Nov 2025) EllapsedTime: 16.4 seconds RetCode: 0 Status: OK