Package: msdata Version: 0.50.0 Command: /home/biocbuild/bbs-3.22-bioc/R/bin/R CMD build --keep-empty-dirs --no-resave-data msdata StartedAt: 2025-11-04 11:32:07 -0500 (Tue, 04 Nov 2025) EndedAt: 2025-11-04 11:32:59 -0500 (Tue, 04 Nov 2025) EllapsedTime: 51.9 seconds RetCode: 0 Status: OK PackageFile: msdata_0.50.0.tar.gz PackageFileSize: 426.4 MiB