Package: msd16s Version: 1.30.0 Command: /home/biocbuild/bbs-3.22-bioc/R/bin/R CMD INSTALL msd16s StartedAt: 2025-11-04 10:56:28 -0500 (Tue, 04 Nov 2025) EndedAt: 2025-11-04 10:56:36 -0500 (Tue, 04 Nov 2025) EllapsedTime: 8.2 seconds RetCode: 0 Status: OK