Package: msPurityData Version: 1.38.0 Command: /home/biocbuild/bbs-3.22-bioc/R/bin/R CMD check --install=check:msPurityData.install-out.txt --library=/home/biocbuild/bbs-3.22-bioc/R/site-library --timings msPurityData_1.38.0.tar.gz StartedAt: 2025-11-04 12:38:51 -0500 (Tue, 04 Nov 2025) EndedAt: 2025-11-04 12:39:22 -0500 (Tue, 04 Nov 2025) EllapsedTime: 31.0 seconds RetCode: 0 Status: OK CheckDir: msPurityData.Rcheck Warnings: 0