Package: msPurityData Version: 1.38.0 Command: /home/biocbuild/bbs-3.22-bioc/R/bin/R CMD build --keep-empty-dirs --no-resave-data msPurityData StartedAt: 2025-10-30 11:40:56 -0400 (Thu, 30 Oct 2025) EndedAt: 2025-10-30 11:43:25 -0400 (Thu, 30 Oct 2025) EllapsedTime: 149.2 seconds RetCode: 0 Status: OK PackageFile: msPurityData_1.38.0.tar.gz PackageFileSize: 233.5 MiB