Package: msPurityData Version: 1.36.0 Command: /home/biocbuild/bbs-3.21-bioc/R/bin/R CMD check --install=check:msPurityData.install-out.txt --library=/home/biocbuild/bbs-3.21-bioc/R/site-library --timings msPurityData_1.36.0.tar.gz StartedAt: 2025-10-09 12:39:13 -0400 (Thu, 09 Oct 2025) EndedAt: 2025-10-09 12:39:44 -0400 (Thu, 09 Oct 2025) EllapsedTime: 30.6 seconds RetCode: 0 Status: OK CheckDir: msPurityData.Rcheck Warnings: 0