Package: mosaicsExample Version: 1.47.0 Command: /home/biocbuild/bbs-3.22-bioc/R/bin/R CMD check --install=check:mosaicsExample.install-out.txt --library=/home/biocbuild/bbs-3.22-bioc/R/site-library --timings mosaicsExample_1.47.0.tar.gz StartedAt: 2025-10-28 12:43:53 -0400 (Tue, 28 Oct 2025) EndedAt: 2025-10-28 12:44:10 -0400 (Tue, 28 Oct 2025) EllapsedTime: 17.0 seconds RetCode: 0 Status: WARNINGS CheckDir: mosaicsExample.Rcheck Warnings: 1