Package: minionSummaryData Version: 1.40.0 Command: /home/biocbuild/bbs-3.22-bioc/R/bin/R CMD build --keep-empty-dirs --no-resave-data minionSummaryData StartedAt: 2025-10-30 11:39:47 -0400 (Thu, 30 Oct 2025) EndedAt: 2025-10-30 11:40:00 -0400 (Thu, 30 Oct 2025) EllapsedTime: 12.8 seconds RetCode: 0 Status: OK PackageFile: minionSummaryData_1.40.0.tar.gz PackageFileSize: 134.7 MiB