Package: minfiDataEPIC Version: 1.36.0 Command: /home/biocbuild/bbs-3.22-bioc/R/bin/R CMD INSTALL minfiDataEPIC StartedAt: 2025-10-30 11:04:55 -0400 (Thu, 30 Oct 2025) EndedAt: 2025-10-30 11:05:55 -0400 (Thu, 30 Oct 2025) EllapsedTime: 59.3 seconds RetCode: 0 Status: OK