Package: minfiData Version: 0.56.0 Command: /home/biocbuild/bbs-3.22-bioc/R/bin/R CMD check --install=check:minfiData.install-out.txt --library=/home/biocbuild/bbs-3.22-bioc/R/site-library --timings minfiData_0.56.0.tar.gz StartedAt: 2025-11-04 12:35:35 -0500 (Tue, 04 Nov 2025) EndedAt: 2025-11-04 12:38:38 -0500 (Tue, 04 Nov 2025) EllapsedTime: 183.3 seconds RetCode: 0 Status: WARNINGS CheckDir: minfiData.Rcheck Warnings: 1