Package: minfiData Version: 0.56.0 Command: /home/biocbuild/bbs-3.22-bioc/R/bin/R CMD build --keep-empty-dirs --no-resave-data minfiData StartedAt: 2025-10-30 11:39:46 -0400 (Thu, 30 Oct 2025) EndedAt: 2025-10-30 11:39:59 -0400 (Thu, 30 Oct 2025) EllapsedTime: 13.6 seconds RetCode: 0 Status: OK PackageFile: minfiData_0.56.0.tar.gz PackageFileSize: 74.56 MiB