Package: minfiData Version: 0.54.0 Command: /home/biocbuild/bbs-3.21-bioc/R/bin/R CMD check --install=check:minfiData.install-out.txt --library=/home/biocbuild/bbs-3.21-bioc/R/site-library --timings minfiData_0.54.0.tar.gz StartedAt: 2025-10-14 12:36:00 -0400 (Tue, 14 Oct 2025) EndedAt: 2025-10-14 12:39:01 -0400 (Tue, 14 Oct 2025) EllapsedTime: 180.8 seconds RetCode: 0 Status: WARNINGS CheckDir: minfiData.Rcheck Warnings: 1