Package: microbiomeDataSets Version: 1.18.0 Command: /home/biocbuild/bbs-3.22-bioc/R/bin/R CMD INSTALL microbiomeDataSets StartedAt: 2025-10-30 11:04:20 -0400 (Thu, 30 Oct 2025) EndedAt: 2025-10-30 11:04:57 -0400 (Thu, 30 Oct 2025) EllapsedTime: 37.0 seconds RetCode: 0 Status: OK