Package: microbiomeDataSets Version: 1.18.0 Command: /home/biocbuild/bbs-3.22-bioc/R/bin/R CMD build --keep-empty-dirs --no-resave-data microbiomeDataSets StartedAt: 2025-10-30 11:39:39 -0400 (Thu, 30 Oct 2025) EndedAt: 2025-10-30 11:40:32 -0400 (Thu, 30 Oct 2025) EllapsedTime: 53.5 seconds RetCode: 0 Status: OK PackageFile: microbiomeDataSets_1.18.0.tar.gz PackageFileSize: 234.9 KiB