Package: microRNAome Version: 1.32.0 Command: /home/biocbuild/bbs-3.22-bioc/R/bin/R CMD INSTALL microRNAome StartedAt: 2025-11-04 10:59:48 -0500 (Tue, 04 Nov 2025) EndedAt: 2025-11-04 11:00:03 -0500 (Tue, 04 Nov 2025) EllapsedTime: 14.7 seconds RetCode: 0 Status: OK