Package: microRNAome Version: 1.32.0 Command: /home/biocbuild/bbs-3.22-bioc/R/bin/R CMD check --install=check:microRNAome.install-out.txt --library=/home/biocbuild/bbs-3.22-bioc/R/site-library --timings microRNAome_1.32.0.tar.gz StartedAt: 2025-11-04 12:35:31 -0500 (Tue, 04 Nov 2025) EndedAt: 2025-11-04 12:37:02 -0500 (Tue, 04 Nov 2025) EllapsedTime: 91.0 seconds RetCode: 0 Status: WARNINGS CheckDir: microRNAome.Rcheck Warnings: 2