Package: microRNAome Version: 1.32.0 Command: /home/biocbuild/bbs-3.22-bioc/R/bin/R CMD build --keep-empty-dirs --no-resave-data microRNAome StartedAt: 2025-11-04 11:30:57 -0500 (Tue, 04 Nov 2025) EndedAt: 2025-11-04 11:30:58 -0500 (Tue, 04 Nov 2025) EllapsedTime: 1.0 seconds RetCode: 0 Status: OK PackageFile: microRNAome_1.32.0.tar.gz PackageFileSize: 4.238 MiB