Package: miRcompData Version: 1.40.0 Command: /home/biocbuild/bbs-3.22-bioc/R/bin/R CMD check --install=check:miRcompData.install-out.txt --library=/home/biocbuild/bbs-3.22-bioc/R/site-library --timings miRcompData_1.40.0.tar.gz StartedAt: 2025-11-04 12:37:03 -0500 (Tue, 04 Nov 2025) EndedAt: 2025-11-04 12:37:27 -0500 (Tue, 04 Nov 2025) EllapsedTime: 24.3 seconds RetCode: 0 Status: OK CheckDir: miRcompData.Rcheck Warnings: 0