Package: miRNATarget Version: 1.46.0 Command: /home/biocbuild/bbs-3.21-bioc/R/bin/R CMD build --keep-empty-dirs --no-resave-data miRNATarget StartedAt: 2025-10-07 11:28:53 -0400 (Tue, 07 Oct 2025) EndedAt: 2025-10-07 11:29:04 -0400 (Tue, 07 Oct 2025) EllapsedTime: 11.7 seconds RetCode: 0 Status: OK PackageFile: miRNATarget_1.46.0.tar.gz PackageFileSize: 51.86 MiB