Package: methylclockData Version: 1.18.0 Command: /home/biocbuild/bbs-3.22-bioc/R/bin/R CMD check --install=check:methylclockData.install-out.txt --library=/home/biocbuild/bbs-3.22-bioc/R/site-library --timings methylclockData_1.18.0.tar.gz StartedAt: 2025-11-04 12:34:27 -0500 (Tue, 04 Nov 2025) EndedAt: 2025-11-04 12:39:48 -0500 (Tue, 04 Nov 2025) EllapsedTime: 321.3 seconds RetCode: 0 Status: OK CheckDir: methylclockData.Rcheck Warnings: 0