Package: methylclockData Version: 1.18.0 Command: /home/biocbuild/bbs-3.22-bioc/R/bin/R CMD build --keep-empty-dirs --no-resave-data methylclockData StartedAt: 2025-10-30 11:39:06 -0400 (Thu, 30 Oct 2025) EndedAt: 2025-10-30 11:40:33 -0400 (Thu, 30 Oct 2025) EllapsedTime: 86.7 seconds RetCode: 0 Status: OK PackageFile: methylclockData_1.18.0.tar.gz PackageFileSize: 230.7 KiB