Package: metaMSdata Version: 1.46.0 Command: /home/biocbuild/bbs-3.22-bioc/R/bin/R CMD check --install=check:metaMSdata.install-out.txt --library=/home/biocbuild/bbs-3.22-bioc/R/site-library --timings metaMSdata_1.46.0.tar.gz StartedAt: 2025-11-04 12:34:21 -0500 (Tue, 04 Nov 2025) EndedAt: 2025-11-04 12:34:41 -0500 (Tue, 04 Nov 2025) EllapsedTime: 20.0 seconds RetCode: 0 Status: OK CheckDir: metaMSdata.Rcheck Warnings: 0