Package: mcsurvdata Version: 1.28.0 Command: /home/biocbuild/bbs-3.22-bioc/R/bin/R CMD INSTALL mcsurvdata StartedAt: 2025-10-30 10:57:16 -0400 (Thu, 30 Oct 2025) EndedAt: 2025-10-30 10:57:30 -0400 (Thu, 30 Oct 2025) EllapsedTime: 14.5 seconds RetCode: 0 Status: OK