Package: mcsurvdata Version: 1.28.0 Command: /home/biocbuild/bbs-3.22-bioc/R/bin/R CMD check --install=check:mcsurvdata.install-out.txt --library=/home/biocbuild/bbs-3.22-bioc/R/site-library --timings mcsurvdata_1.28.0.tar.gz StartedAt: 2025-11-04 12:33:23 -0500 (Tue, 04 Nov 2025) EndedAt: 2025-11-04 12:34:56 -0500 (Tue, 04 Nov 2025) EllapsedTime: 92.8 seconds RetCode: 0 Status: OK CheckDir: mcsurvdata.Rcheck Warnings: 0