Package: mcsurvdata Version: 1.28.0 Command: /home/biocbuild/bbs-3.22-bioc/R/bin/R CMD build --keep-empty-dirs --no-resave-data mcsurvdata StartedAt: 2025-10-30 11:37:34 -0400 (Thu, 30 Oct 2025) EndedAt: 2025-10-30 11:38:06 -0400 (Thu, 30 Oct 2025) EllapsedTime: 32.2 seconds RetCode: 0 Status: OK PackageFile: mcsurvdata_1.28.0.tar.gz PackageFileSize: 229.5 KiB