Package: marinerData Version: 1.10.0 Command: /home/biocbuild/bbs-3.22-bioc/R/bin/R CMD check --install=check:marinerData.install-out.txt --library=/home/biocbuild/bbs-3.22-bioc/R/site-library --timings marinerData_1.10.0.tar.gz StartedAt: 2025-11-04 12:33:10 -0500 (Tue, 04 Nov 2025) EndedAt: 2025-11-04 12:37:08 -0500 (Tue, 04 Nov 2025) EllapsedTime: 237.5 seconds RetCode: 0 Status: OK CheckDir: marinerData.Rcheck Warnings: 0