Package: maqcExpression4plex Version: 1.54.0 Command: /home/biocbuild/bbs-3.22-bioc/R/bin/R CMD check --install=check:maqcExpression4plex.install-out.txt --library=/home/biocbuild/bbs-3.22-bioc/R/site-library --timings maqcExpression4plex_1.54.0.tar.gz StartedAt: 2025-11-04 12:32:51 -0500 (Tue, 04 Nov 2025) EndedAt: 2025-11-04 12:33:05 -0500 (Tue, 04 Nov 2025) EllapsedTime: 14.0 seconds RetCode: 0 Status: OK CheckDir: maqcExpression4plex.Rcheck Warnings: 0