Package: mammaPrintData Version: 1.46.0 Command: /home/biocbuild/bbs-3.22-bioc/R/bin/R CMD build --keep-empty-dirs --no-resave-data mammaPrintData StartedAt: 2025-11-04 11:28:19 -0500 (Tue, 04 Nov 2025) EndedAt: 2025-11-04 11:29:32 -0500 (Tue, 04 Nov 2025) EllapsedTime: 72.1 seconds RetCode: 0 Status: OK PackageFile: mammaPrintData_1.46.0.tar.gz PackageFileSize: 214.2 MiB