Package: macrophage Version: 1.24.0 Command: /home/biocbuild/bbs-3.21-bioc/R/bin/R CMD build --keep-empty-dirs --no-resave-data macrophage StartedAt: 2025-10-02 11:26:38 -0400 (Thu, 02 Oct 2025) EndedAt: 2025-10-02 11:27:14 -0400 (Thu, 02 Oct 2025) EllapsedTime: 35.8 seconds RetCode: 0 Status: OK PackageFile: macrophage_1.24.0.tar.gz PackageFileSize: 511.4 MiB