Package: mCSEAdata Version: 1.29.1 Command: /home/biocbuild/bbs-3.22-bioc/R/bin/R CMD check --install=check:mCSEAdata.install-out.txt --library=/home/biocbuild/bbs-3.22-bioc/R/site-library --timings mCSEAdata_1.29.1.tar.gz StartedAt: 2025-10-28 12:38:16 -0400 (Tue, 28 Oct 2025) EndedAt: 2025-10-28 12:39:00 -0400 (Tue, 28 Oct 2025) EllapsedTime: 44.1 seconds RetCode: 0 Status: WARNINGS CheckDir: mCSEAdata.Rcheck Warnings: 1