Package: mCSEAdata Version: 1.30.0 Command: /home/biocbuild/bbs-3.22-bioc/R/bin/R CMD build --keep-empty-dirs --no-resave-data mCSEAdata StartedAt: 2025-10-30 11:37:03 -0400 (Thu, 30 Oct 2025) EndedAt: 2025-10-30 11:39:27 -0400 (Thu, 30 Oct 2025) EllapsedTime: 144.4 seconds RetCode: 0 Status: OK PackageFile: mCSEAdata_1.30.0.tar.gz PackageFileSize: 25.04 MiB