Package: lydata Version: 1.36.0 Command: /home/biocbuild/bbs-3.22-bioc/R/bin/R CMD check --install=check:lydata.install-out.txt --library=/home/biocbuild/bbs-3.22-bioc/R/site-library --timings lydata_1.36.0.tar.gz StartedAt: 2025-11-04 12:32:19 -0500 (Tue, 04 Nov 2025) EndedAt: 2025-11-04 12:32:39 -0500 (Tue, 04 Nov 2025) EllapsedTime: 20.7 seconds RetCode: 0 Status: OK CheckDir: lydata.Rcheck Warnings: 0