Package: lumiBarnes Version: 1.50.0 Command: /home/biocbuild/bbs-3.22-bioc/R/bin/R CMD INSTALL lumiBarnes StartedAt: 2025-11-04 11:03:34 -0500 (Tue, 04 Nov 2025) EndedAt: 2025-11-04 11:04:03 -0500 (Tue, 04 Nov 2025) EllapsedTime: 29.6 seconds RetCode: 0 Status: OK