Package: lumiBarnes Version: 1.50.0 Maintainer: Pan Du MaintainerEmail: dupan at northwestern.edu git_url: https://git.bioconductor.org/packages/lumiBarnes git_branch: RELEASE_3_22 git_last_commit: 51b3d66 git_last_commit_date: 2025-10-29 09:30:48 -0400 (Wed, 29 Oct 2025)