Package: leukemiasEset Version: 1.46.0 Command: /home/biocbuild/bbs-3.22-bioc/R/bin/R CMD build --keep-empty-dirs --no-resave-data leukemiasEset StartedAt: 2025-11-04 11:27:10 -0500 (Tue, 04 Nov 2025) EndedAt: 2025-11-04 11:27:11 -0500 (Tue, 04 Nov 2025) EllapsedTime: 1.0 seconds RetCode: 0 Status: OK PackageFile: leukemiasEset_1.46.0.tar.gz PackageFileSize: 8.717 MiB