Package: leukemiasEset Version: 1.44.0 Command: /home/biocbuild/bbs-3.21-bioc/R/bin/R CMD build --keep-empty-dirs --no-resave-data leukemiasEset StartedAt: 2025-09-25 11:25:00 -0400 (Thu, 25 Sep 2025) EndedAt: 2025-09-25 11:25:01 -0400 (Thu, 25 Sep 2025) EllapsedTime: 1.0 seconds RetCode: 0 Status: OK PackageFile: leukemiasEset_1.44.0.tar.gz PackageFileSize: 8.717 MiB