Package: leeBamViews Version: 1.46.0 Command: /home/biocbuild/bbs-3.22-bioc/R/bin/R CMD INSTALL leeBamViews StartedAt: 2025-11-04 11:01:18 -0500 (Tue, 04 Nov 2025) EndedAt: 2025-11-04 11:01:51 -0500 (Tue, 04 Nov 2025) EllapsedTime: 32.9 seconds RetCode: 0 Status: OK