Package: kidpack Version: 1.52.0 Command: /home/biocbuild/bbs-3.22-bioc/R/bin/R CMD INSTALL kidpack StartedAt: 2025-11-04 10:56:11 -0500 (Tue, 04 Nov 2025) EndedAt: 2025-11-04 10:56:16 -0500 (Tue, 04 Nov 2025) EllapsedTime: 5.0 seconds RetCode: 0 Status: OK