Package: kidpack Version: 1.52.0 Command: /home/biocbuild/bbs-3.22-bioc/R/bin/R CMD check --install=check:kidpack.install-out.txt --library=/home/biocbuild/bbs-3.22-bioc/R/site-library --timings kidpack_1.52.0.tar.gz StartedAt: 2025-11-04 12:29:52 -0500 (Tue, 04 Nov 2025) EndedAt: 2025-11-04 12:30:23 -0500 (Tue, 04 Nov 2025) EllapsedTime: 31.3 seconds RetCode: 0 Status: WARNINGS CheckDir: kidpack.Rcheck Warnings: 1