Package: imcdatasets Version: 1.18.0 Command: /home/biocbuild/bbs-3.22-bioc/R/bin/R CMD INSTALL imcdatasets StartedAt: 2025-10-30 11:01:46 -0400 (Thu, 30 Oct 2025) EndedAt: 2025-10-30 11:03:04 -0400 (Thu, 30 Oct 2025) EllapsedTime: 77.7 seconds RetCode: 0 Status: OK